BEGIN:VCALENDAR
VERSION:2.0
PRODID:-//Prabhupada Desh - ECPv6.15.20//NONSGML v1.0//EN
CALSCALE:GREGORIAN
METHOD:PUBLISH
X-WR-CALNAME:Prabhupada Desh
X-ORIGINAL-URL:https://www.prabhupadadesh.com
X-WR-CALDESC:Eventi per Prabhupada Desh
REFRESH-INTERVAL;VALUE=DURATION:PT1H
X-Robots-Tag:noindex
X-PUBLISHED-TTL:PT1H
BEGIN:VTIMEZONE
TZID:Europe/Rome
BEGIN:DAYLIGHT
TZOFFSETFROM:+0100
TZOFFSETTO:+0200
TZNAME:CEST
DTSTART:20250330T010000
END:DAYLIGHT
BEGIN:STANDARD
TZOFFSETFROM:+0200
TZOFFSETTO:+0100
TZNAME:CET
DTSTART:20251026T010000
END:STANDARD
BEGIN:DAYLIGHT
TZOFFSETFROM:+0100
TZOFFSETTO:+0200
TZNAME:CEST
DTSTART:20260329T010000
END:DAYLIGHT
BEGIN:STANDARD
TZOFFSETFROM:+0200
TZOFFSETTO:+0100
TZNAME:CET
DTSTART:20261025T010000
END:STANDARD
BEGIN:DAYLIGHT
TZOFFSETFROM:+0100
TZOFFSETTO:+0200
TZNAME:CEST
DTSTART:20270328T010000
END:DAYLIGHT
BEGIN:STANDARD
TZOFFSETFROM:+0200
TZOFFSETTO:+0100
TZNAME:CET
DTSTART:20271031T010000
END:STANDARD
END:VTIMEZONE
BEGIN:VEVENT
DTSTART;TZID=Europe/Rome:20260329T180000
DTEND;TZID=Europe/Rome:20260329T190000
DTSTAMP:20260424T020645
CREATED:20260303T155339Z
LAST-MODIFIED:20260303T155339Z
UID:6903-1774807200-1774810800@www.prabhupadadesh.com
SUMMARY:Le dimensioni del Tempo nel percorso evolutivo
DESCRIPTION:▶️ Conferenza domenica 29 marzo 2026:\n“Le dimensioni del Tempo nel percorso evolutivo”\nRelatore: Annalisa De Stasi (Gandharvika devi dasi)\n✅ L’ingresso è libero e sei il benvenuto/a porta anche i tuoi amici\, guarda bene tutte le info per partecipare\, nella nostra pagina web\nhttps://www.prabhupadadesh.com/festa-della-domenica/\n❣️ Ti aspettiamo!
URL:https://www.prabhupadadesh.com/event/le-dimensioni-del-tempo-nel-percorso-evolutivo/
LOCATION:Prabhupada desh
CATEGORIES:conferenze
ATTACH;FMTTYPE=image/jpeg:https://www.prabhupadadesh.com/wp-content/uploads/2023/09/385066525_693068472848541_6441783992784114642_n.jpg
END:VEVENT
BEGIN:VEVENT
DTSTART;TZID=Europe/Rome:20260329T083000
DTEND;TZID=Europe/Rome:20260329T140000
DTSTAMP:20260424T020645
CREATED:20260303T154256Z
LAST-MODIFIED:20260303T154256Z
UID:6893-1774773000-1774792800@www.prabhupadadesh.com
SUMMARY:Sat-Sanga: Lettura della Bhagavad-gita e servizio
DESCRIPTION:Ti invitiamo con gioia a partecipare al Sat-sanga (compagnia di persone nel cammino spirituale): leggeremo insieme la Bhagavad-gita e offriremo qualche ora di servizio pratico a Prabhupada desh. \nCi incontriamo ogni ultima domenica del mese con il seguente programma:\n8:30 lettura in cerchio della Bhagavad-gita\n10:00 servire insieme\n13:15 pranzo vegetariano \nPrenota ora chiamando Samantha (Syama priya devi dasi) al 351 2978655.
URL:https://www.prabhupadadesh.com/event/sat-sanga-lettura-della-bhagavad-gita-e-servizio/
LOCATION:Prabhupada desh
CATEGORIES:satsanga
ATTACH;FMTTYPE=image/jpeg:https://www.prabhupadadesh.com/wp-content/uploads/2023/11/Festa-Annuale-PDesh-22-ottobre-2023.jpg
END:VEVENT
BEGIN:VEVENT
DTSTART;VALUE=DATE:20260328
DTEND;VALUE=DATE:20260329
DTSTAMP:20260424T020645
CREATED:20260320T105307Z
LAST-MODIFIED:20260320T105307Z
UID:6913-1774656000-1774742399@www.prabhupadadesh.com
SUMMARY:Digiuno per Kamada ekadasi
DESCRIPTION:Ekadasi è un giorno sacro che ricorre due volte al mese (l’undicesimo giorno della luna calante e della luna crescente)\, durante il quale le Scritture raccomandano di astenersi dal mangiare cereali e legumi e di minimizzare le cure destinate al corpo\, per dedicare più tempo alle pratiche devozionali. \nIl digiuno di ekadasi si interrompe domani\ndalle ore 10:09 alle 11:12
URL:https://www.prabhupadadesh.com/event/digiuno-per-kamada-ekadasi/
CATEGORIES:ekadashi
ATTACH;FMTTYPE=image/png:https://www.prabhupadadesh.com/wp-content/uploads/2023/12/ekadashi.png
END:VEVENT
BEGIN:VEVENT
DTSTART;TZID=Europe/Rome:20260326T173000
DTEND;TZID=Europe/Rome:20260326T210000
DTSTAMP:20260424T020645
CREATED:20260303T154035Z
LAST-MODIFIED:20260303T154035Z
UID:6891-1774546200-1774558800@www.prabhupadadesh.com
SUMMARY:Rama Navami: apparizione di Sri Ramacandra
DESCRIPTION:Giovedì 26 marzo si ricorda l’avvento del Signore Ramacandra\, che rappresenta il modello ideale di governante dedicato interamente al servizio del popolo: si prese cura dei cittadini come un padre affettuoso\, assicurandosi che potessero soddisfare le necessità della vita economica\, sociale\, emozionale e spirituale.\nLe attività di Ramacandra sono più che mai rilevanti perché rappresentano un modello da seguire per far fronte alla profonda crisi della leadership attuale. \nIl programma della serata:\n17:30 canti devozionali;\n18:00 conferenza “Gli insegnamenti istruttivi di Sri Ramacandra” di Michele Capodiferro (Mangalananda dasa);\n19:00 Gaura-arati kirtana (canti e danze devozionali);\n19:30 prasadam (cena vegetariana).
URL:https://www.prabhupadadesh.com/event/rama-navami-apparizione-di-sri-ramacandra/
LOCATION:Prabhupada desh
CATEGORIES:apparizioni
ATTACH;FMTTYPE=image/jpeg:https://www.prabhupadadesh.com/wp-content/uploads/2023/01/unnamed.jpg
END:VEVENT
END:VCALENDAR